BEGIN:VCALENDAR
VERSION:2.0
PRODID:-//West Side Community Garden - ECPv6.15.20//NONSGML v1.0//EN
CALSCALE:GREGORIAN
METHOD:PUBLISH
X-WR-CALNAME:West Side Community Garden
X-ORIGINAL-URL:https://www.westsidecommunitygarden.org
X-WR-CALDESC:Events for West Side Community Garden
REFRESH-INTERVAL;VALUE=DURATION:PT1H
X-Robots-Tag:noindex
X-PUBLISHED-TTL:PT1H
BEGIN:VTIMEZONE
TZID:America/New_York
BEGIN:DAYLIGHT
TZOFFSETFROM:-0500
TZOFFSETTO:-0400
TZNAME:EDT
DTSTART:20250309T070000
END:DAYLIGHT
BEGIN:STANDARD
TZOFFSETFROM:-0400
TZOFFSETTO:-0500
TZNAME:EST
DTSTART:20251102T060000
END:STANDARD
BEGIN:DAYLIGHT
TZOFFSETFROM:-0500
TZOFFSETTO:-0400
TZNAME:EDT
DTSTART:20260308T070000
END:DAYLIGHT
BEGIN:STANDARD
TZOFFSETFROM:-0400
TZOFFSETTO:-0500
TZNAME:EST
DTSTART:20261101T060000
END:STANDARD
BEGIN:DAYLIGHT
TZOFFSETFROM:-0500
TZOFFSETTO:-0400
TZNAME:EDT
DTSTART:20270314T070000
END:DAYLIGHT
BEGIN:STANDARD
TZOFFSETFROM:-0400
TZOFFSETTO:-0500
TZNAME:EST
DTSTART:20271107T060000
END:STANDARD
END:VTIMEZONE
BEGIN:VEVENT
DTSTART;TZID=America/New_York:20260425T100000
DTEND;TZID=America/New_York:20260425T180000
DTSTAMP:20260423T090605
CREATED:20260331T142121Z
LAST-MODIFIED:20260331T142121Z
UID:10000225-1777111200-1777140000@www.westsidecommunitygarden.org
SUMMARY:Annual Tulip Festival -- Info Days
DESCRIPTION:
URL:https://www.westsidecommunitygarden.org/event/annual-tulip-festival-info-days/2026-04-25/
LOCATION:In the Garden
END:VEVENT
BEGIN:VEVENT
DTSTART;TZID=America/New_York:20260426T100000
DTEND;TZID=America/New_York:20260426T180000
DTSTAMP:20260423T090605
CREATED:20260331T142121Z
LAST-MODIFIED:20260331T142121Z
UID:10000226-1777197600-1777226400@www.westsidecommunitygarden.org
SUMMARY:Annual Tulip Festival -- Info Days
DESCRIPTION:
URL:https://www.westsidecommunitygarden.org/event/annual-tulip-festival-info-days/2026-04-26/
LOCATION:In the Garden
END:VEVENT
BEGIN:VEVENT
DTSTART;TZID=America/New_York:20260504T183000
DTEND;TZID=America/New_York:20260504T203000
DTSTAMP:20260423T090605
CREATED:20260331T140926Z
LAST-MODIFIED:20260331T140926Z
UID:10000206-1777919400-1777926600@www.westsidecommunitygarden.org
SUMMARY:Board Meeting
DESCRIPTION:
URL:https://www.westsidecommunitygarden.org/event/board-meeting-4/2026-05-04/
LOCATION:Zoom
CATEGORIES:Meeting
END:VEVENT
BEGIN:VEVENT
DTSTART;TZID=America/New_York:20260517T180000
DTEND;TZID=America/New_York:20260517T190000
DTSTAMP:20260423T090605
CREATED:20260331T142512Z
LAST-MODIFIED:20260414T004038Z
UID:10000227-1779040800-1779044400@www.westsidecommunitygarden.org
SUMMARY:Concert 1: Lisa Spraragen and Josue Perez\, Flamenco\, Spanish Guitar
DESCRIPTION:
URL:https://www.westsidecommunitygarden.org/event/concert-1-lisa-sparagem-and-josue-perez-flamenco-and-spanish-guitar/
LOCATION:In the Garden
CATEGORIES:Performance
END:VEVENT
BEGIN:VEVENT
DTSTART;TZID=America/New_York:20260524T180000
DTEND;TZID=America/New_York:20260524T190000
DTSTAMP:20260423T090605
CREATED:20260331T142720Z
LAST-MODIFIED:20260331T142720Z
UID:10000228-1779645600-1779649200@www.westsidecommunitygarden.org
SUMMARY:Concert 2: Joseph Darcourt -- Classical Cello
DESCRIPTION:
URL:https://www.westsidecommunitygarden.org/event/concert-2-joseph-darcourt-classical-cello/
LOCATION:In the Garden
CATEGORIES:Performance
END:VEVENT
BEGIN:VEVENT
DTSTART;TZID=America/New_York:20260531T180000
DTEND;TZID=America/New_York:20260531T190000
DTSTAMP:20260423T090605
CREATED:20260331T142827Z
LAST-MODIFIED:20260331T142827Z
UID:10000229-1780250400-1780254000@www.westsidecommunitygarden.org
SUMMARY:Concert 3: Terry Waldo -- Gotham City Band\, Ragtime and Jazz
DESCRIPTION:
URL:https://www.westsidecommunitygarden.org/event/concert-3-terry-waldo-gotham-city-band-ragtime-and-jazz/
LOCATION:In the Garden
CATEGORIES:Performance
END:VEVENT
BEGIN:VEVENT
DTSTART;TZID=America/New_York:20260601T183000
DTEND;TZID=America/New_York:20260601T203000
DTSTAMP:20260423T090605
CREATED:20260331T140926Z
LAST-MODIFIED:20260331T140926Z
UID:10000207-1780338600-1780345800@www.westsidecommunitygarden.org
SUMMARY:Board Meeting
DESCRIPTION:
URL:https://www.westsidecommunitygarden.org/event/board-meeting-4/2026-06-01/
LOCATION:Zoom
CATEGORIES:Meeting
END:VEVENT
BEGIN:VEVENT
DTSTART;TZID=America/New_York:20260607T180000
DTEND;TZID=America/New_York:20260607T190000
DTSTAMP:20260423T090605
CREATED:20260331T142951Z
LAST-MODIFIED:20260331T143534Z
UID:10000230-1780855200-1780858800@www.westsidecommunitygarden.org
SUMMARY:Concert 4: Oriente Lopez -- Spanish Language Song Cycle
DESCRIPTION:Spanish Language Song Cycle blending Cuban genres – Cha Cha Cha\, guaracha\, conga\, son\, bolero
URL:https://www.westsidecommunitygarden.org/event/concert-4-oriente-lopez-spanish-language-song-cycle/
LOCATION:In the Garden
CATEGORIES:Performance
END:VEVENT
BEGIN:VEVENT
DTSTART;TZID=America/New_York:20260611T180000
DTEND;TZID=America/New_York:20260611T203000
DTSTAMP:20260423T090605
CREATED:20260331T143656Z
LAST-MODIFIED:20260331T143656Z
UID:10000232-1781200800-1781209800@www.westsidecommunitygarden.org
SUMMARY:Annual Benefit Garden Party
DESCRIPTION:
URL:https://www.westsidecommunitygarden.org/event/annual-benefit-garden-party-3/
LOCATION:In the Garden
CATEGORIES:Party
END:VEVENT
BEGIN:VEVENT
DTSTART;TZID=America/New_York:20260614T180000
DTEND;TZID=America/New_York:20260614T190000
DTSTAMP:20260423T090605
CREATED:20260331T143052Z
LAST-MODIFIED:20260331T143213Z
UID:10000231-1781460000-1781463600@www.westsidecommunitygarden.org
SUMMARY:Concert 5: Street Beat Brass Band --New Orleans Musical Tradition
DESCRIPTION:New Orleans Musical Tradition\, Funk to Latin and Jazz
URL:https://www.westsidecommunitygarden.org/event/concert-5-street-beat-brass-band-new-orleans-musical-tradition/
LOCATION:In the Garden
CATEGORIES:Performance
END:VEVENT
BEGIN:VEVENT
DTSTART;TZID=America/New_York:20260625T180000
DTEND;TZID=America/New_York:20260625T200000
DTSTAMP:20260423T090605
CREATED:20260331T143804Z
LAST-MODIFIED:20260331T143804Z
UID:10000233-1782410400-1782417600@www.westsidecommunitygarden.org
SUMMARY:Opera -- TBD
DESCRIPTION:
URL:https://www.westsidecommunitygarden.org/event/opera-tbd/
LOCATION:In the Garden
CATEGORIES:Performance
END:VEVENT
BEGIN:VEVENT
DTSTART;TZID=America/New_York:20260704T180000
DTEND;TZID=America/New_York:20260704T200000
DTSTAMP:20260423T090605
CREATED:20260331T143915Z
LAST-MODIFIED:20260331T143915Z
UID:10000234-1783188000-1783195200@www.westsidecommunitygarden.org
SUMMARY:Annual Picnic for 4th of July Celebration
DESCRIPTION:
URL:https://www.westsidecommunitygarden.org/event/annual-picnic-for-4th-of-july-celebration-2/
LOCATION:In the Garden
CATEGORIES:Party
END:VEVENT
BEGIN:VEVENT
DTSTART;TZID=America/New_York:20260706T183000
DTEND;TZID=America/New_York:20260706T203000
DTSTAMP:20260423T090605
CREATED:20260331T140926Z
LAST-MODIFIED:20260331T140926Z
UID:10000208-1783362600-1783369800@www.westsidecommunitygarden.org
SUMMARY:Board Meeting
DESCRIPTION:
URL:https://www.westsidecommunitygarden.org/event/board-meeting-4/2026-07-06/
LOCATION:Zoom
CATEGORIES:Meeting
END:VEVENT
BEGIN:VEVENT
DTSTART;TZID=America/New_York:20260715T183000
DTEND;TZID=America/New_York:20260715T193000
DTSTAMP:20260423T090605
CREATED:20260331T141642Z
LAST-MODIFIED:20260331T141642Z
UID:10000217-1784140200-1784143800@www.westsidecommunitygarden.org
SUMMARY:New Member Orientation Meeting
DESCRIPTION:
URL:https://www.westsidecommunitygarden.org/event/new-member-orientation-meeting/2026-07-15/
LOCATION:Zoom
END:VEVENT
BEGIN:VEVENT
DTSTART;TZID=America/New_York:20260718T130000
DTEND;TZID=America/New_York:20260718T140000
DTSTAMP:20260423T090605
CREATED:20260331T141642Z
LAST-MODIFIED:20260331T141642Z
UID:10000218-1784379600-1784383200@www.westsidecommunitygarden.org
SUMMARY:New Member Orientation Meeting
DESCRIPTION:
URL:https://www.westsidecommunitygarden.org/event/new-member-orientation-meeting/2026-07-18/
LOCATION:Zoom
END:VEVENT
BEGIN:VEVENT
DTSTART;TZID=America/New_York:20260718T180000
DTEND;TZID=America/New_York:20260718T200000
DTSTAMP:20260423T090605
CREATED:20260331T144235Z
LAST-MODIFIED:20260331T144235Z
UID:10000235-1784397600-1784404800@www.westsidecommunitygarden.org
SUMMARY:Shakespeare Festival -- TBD
DESCRIPTION:
URL:https://www.westsidecommunitygarden.org/event/shakespeare-festival-tbd/2026-07-18/
LOCATION:In the Garden
CATEGORIES:Performance
END:VEVENT
BEGIN:VEVENT
DTSTART;TZID=America/New_York:20260719T130000
DTEND;TZID=America/New_York:20260719T140000
DTSTAMP:20260423T090605
CREATED:20260331T141642Z
LAST-MODIFIED:20260331T141642Z
UID:10000219-1784466000-1784469600@www.westsidecommunitygarden.org
SUMMARY:New Member Orientation Meeting
DESCRIPTION:
URL:https://www.westsidecommunitygarden.org/event/new-member-orientation-meeting/2026-07-19/
LOCATION:Zoom
END:VEVENT
BEGIN:VEVENT
DTSTART;TZID=America/New_York:20260719T180000
DTEND;TZID=America/New_York:20260719T200000
DTSTAMP:20260423T090605
CREATED:20260331T144235Z
LAST-MODIFIED:20260331T144235Z
UID:10000236-1784484000-1784491200@www.westsidecommunitygarden.org
SUMMARY:Shakespeare Festival -- TBD
DESCRIPTION:
URL:https://www.westsidecommunitygarden.org/event/shakespeare-festival-tbd/2026-07-19/
LOCATION:In the Garden
CATEGORIES:Performance
END:VEVENT
BEGIN:VEVENT
DTSTART;TZID=America/New_York:20260725T180000
DTEND;TZID=America/New_York:20260725T200000
DTSTAMP:20260423T090605
CREATED:20260331T144235Z
LAST-MODIFIED:20260331T144235Z
UID:10000237-1785002400-1785009600@www.westsidecommunitygarden.org
SUMMARY:Shakespeare Festival -- TBD
DESCRIPTION:
URL:https://www.westsidecommunitygarden.org/event/shakespeare-festival-tbd/2026-07-25/
LOCATION:In the Garden
CATEGORIES:Performance
END:VEVENT
BEGIN:VEVENT
DTSTART;TZID=America/New_York:20260726T180000
DTEND;TZID=America/New_York:20260726T200000
DTSTAMP:20260423T090605
CREATED:20260331T144235Z
LAST-MODIFIED:20260331T144235Z
UID:10000238-1785088800-1785096000@www.westsidecommunitygarden.org
SUMMARY:Shakespeare Festival -- TBD
DESCRIPTION:
URL:https://www.westsidecommunitygarden.org/event/shakespeare-festival-tbd/2026-07-26/
LOCATION:In the Garden
CATEGORIES:Performance
END:VEVENT
BEGIN:VEVENT
DTSTART;TZID=America/New_York:20260801T180000
DTEND;TZID=America/New_York:20260801T200000
DTSTAMP:20260423T090605
CREATED:20260331T144235Z
LAST-MODIFIED:20260331T144235Z
UID:10000239-1785607200-1785614400@www.westsidecommunitygarden.org
SUMMARY:Shakespeare Festival -- TBD
DESCRIPTION:
URL:https://www.westsidecommunitygarden.org/event/shakespeare-festival-tbd/2026-08-01/
LOCATION:In the Garden
CATEGORIES:Performance
END:VEVENT
BEGIN:VEVENT
DTSTART;TZID=America/New_York:20260802T180000
DTEND;TZID=America/New_York:20260802T200000
DTSTAMP:20260423T090605
CREATED:20260331T144235Z
LAST-MODIFIED:20260331T144235Z
UID:10000240-1785693600-1785700800@www.westsidecommunitygarden.org
SUMMARY:Shakespeare Festival -- TBD
DESCRIPTION:
URL:https://www.westsidecommunitygarden.org/event/shakespeare-festival-tbd/2026-08-02/
LOCATION:In the Garden
CATEGORIES:Performance
END:VEVENT
BEGIN:VEVENT
DTSTART;TZID=America/New_York:20260803T183000
DTEND;TZID=America/New_York:20260803T203000
DTSTAMP:20260423T090605
CREATED:20260331T140926Z
LAST-MODIFIED:20260331T140926Z
UID:10000209-1785781800-1785789000@www.westsidecommunitygarden.org
SUMMARY:Board Meeting
DESCRIPTION:
URL:https://www.westsidecommunitygarden.org/event/board-meeting-4/2026-08-03/
LOCATION:Zoom
CATEGORIES:Meeting
END:VEVENT
BEGIN:VEVENT
DTSTART;TZID=America/New_York:20260831T183000
DTEND;TZID=America/New_York:20260831T203000
DTSTAMP:20260423T090605
CREATED:20260331T140926Z
LAST-MODIFIED:20260331T140926Z
UID:10000210-1788201000-1788208200@www.westsidecommunitygarden.org
SUMMARY:Board Meeting
DESCRIPTION:
URL:https://www.westsidecommunitygarden.org/event/board-meeting-4/2026-08-31/
LOCATION:Zoom
CATEGORIES:Meeting
END:VEVENT
BEGIN:VEVENT
DTSTART;TZID=America/New_York:20260919T100000
DTEND;TZID=America/New_York:20260919T160000
DTSTAMP:20260423T090605
CREATED:20260331T144349Z
LAST-MODIFIED:20260331T144349Z
UID:10000241-1789812000-1789833600@www.westsidecommunitygarden.org
SUMMARY:Arts and Crafts Festival
DESCRIPTION:
URL:https://www.westsidecommunitygarden.org/event/arts-and-crafts-festival/2026-09-19/
LOCATION:In the Garden
CATEGORIES:Festival
END:VEVENT
BEGIN:VEVENT
DTSTART;TZID=America/New_York:20260920T100000
DTEND;TZID=America/New_York:20260920T160000
DTSTAMP:20260423T090605
CREATED:20260331T144349Z
LAST-MODIFIED:20260331T144349Z
UID:10000242-1789898400-1789920000@www.westsidecommunitygarden.org
SUMMARY:Arts and Crafts Festival
DESCRIPTION:
URL:https://www.westsidecommunitygarden.org/event/arts-and-crafts-festival/2026-09-20/
LOCATION:In the Garden
CATEGORIES:Festival
END:VEVENT
BEGIN:VEVENT
DTSTART;TZID=America/New_York:20261005T183000
DTEND;TZID=America/New_York:20261005T203000
DTSTAMP:20260423T090605
CREATED:20260331T140926Z
LAST-MODIFIED:20260331T140926Z
UID:10000211-1791225000-1791232200@www.westsidecommunitygarden.org
SUMMARY:Board Meeting
DESCRIPTION:
URL:https://www.westsidecommunitygarden.org/event/board-meeting-4/2026-10-05/
LOCATION:Zoom
CATEGORIES:Meeting
END:VEVENT
BEGIN:VEVENT
DTSTART;TZID=America/New_York:20261021T183000
DTEND;TZID=America/New_York:20261021T193000
DTSTAMP:20260423T090605
CREATED:20260331T141642Z
LAST-MODIFIED:20260331T141642Z
UID:10000220-1792607400-1792611000@www.westsidecommunitygarden.org
SUMMARY:New Member Orientation Meeting
DESCRIPTION:
URL:https://www.westsidecommunitygarden.org/event/new-member-orientation-meeting/2026-10-21/
LOCATION:Zoom
END:VEVENT
BEGIN:VEVENT
DTSTART;TZID=America/New_York:20261024T130000
DTEND;TZID=America/New_York:20261024T140000
DTSTAMP:20260423T090605
CREATED:20260331T141642Z
LAST-MODIFIED:20260331T141642Z
UID:10000221-1792846800-1792850400@www.westsidecommunitygarden.org
SUMMARY:New Member Orientation Meeting
DESCRIPTION:
URL:https://www.westsidecommunitygarden.org/event/new-member-orientation-meeting/2026-10-24/
LOCATION:Zoom
END:VEVENT
BEGIN:VEVENT
DTSTART;TZID=America/New_York:20261025T130000
DTEND;TZID=America/New_York:20261025T140000
DTSTAMP:20260423T090605
CREATED:20260331T141642Z
LAST-MODIFIED:20260331T141642Z
UID:10000222-1792933200-1792936800@www.westsidecommunitygarden.org
SUMMARY:New Member Orientation Meeting
DESCRIPTION:
URL:https://www.westsidecommunitygarden.org/event/new-member-orientation-meeting/2026-10-25/
LOCATION:Zoom
END:VEVENT
END:VCALENDAR